BEGIN:VCALENDAR
VERSION:2.0
PRODID:-//NADI Lubuk Buntar - ECPv6.15.20//NONSGML v1.0//EN
CALSCALE:GREGORIAN
METHOD:PUBLISH
X-WR-CALNAME:NADI Lubuk Buntar
X-ORIGINAL-URL:https://lubukbuntar.nadi.my
X-WR-CALDESC:Events for NADI Lubuk Buntar
REFRESH-INTERVAL;VALUE=DURATION:PT1H
X-Robots-Tag:noindex
X-PUBLISHED-TTL:PT1H
BEGIN:VTIMEZONE
TZID:Asia/Kuala_Lumpur
BEGIN:STANDARD
TZOFFSETFROM:+0800
TZOFFSETTO:+0800
TZNAME:+08
DTSTART:20240101T000000
END:STANDARD
END:VTIMEZONE
BEGIN:VEVENT
DTSTART;VALUE=DATE:20251229
DTEND;VALUE=DATE:20260101
DTSTAMP:20260422T140847
CREATED:20251229T093159Z
LAST-MODIFIED:20251229T093335Z
UID:6386-1766966400-1767225599@lubukbuntar.nadi.my
SUMMARY:Saringan Kesihatan : Saringan Kendiri
DESCRIPTION:
URL:https://lubukbuntar.nadi.my/event/saringan-kesihatan-saringan-kendiri/
END:VEVENT
END:VCALENDAR