BEGIN:VCALENDAR
VERSION:2.0
PRODID:-//NADI Lubuk Buntar - ECPv6.15.20//NONSGML v1.0//EN
CALSCALE:GREGORIAN
METHOD:PUBLISH
X-WR-CALNAME:NADI Lubuk Buntar
X-ORIGINAL-URL:https://lubukbuntar.nadi.my
X-WR-CALDESC:Events for NADI Lubuk Buntar
REFRESH-INTERVAL;VALUE=DURATION:PT1H
X-Robots-Tag:noindex
X-PUBLISHED-TTL:PT1H
BEGIN:VTIMEZONE
TZID:Asia/Kuala_Lumpur
BEGIN:STANDARD
TZOFFSETFROM:+0800
TZOFFSETTO:+0800
TZNAME:+08
DTSTART:20250101T000000
END:STANDARD
END:VTIMEZONE
BEGIN:VEVENT
DTSTART;TZID=Asia/Kuala_Lumpur:20260130T093000
DTEND;TZID=Asia/Kuala_Lumpur:20260130T163000
DTSTAMP:20260422T065551
CREATED:20260128T041337Z
LAST-MODIFIED:20260128T041337Z
UID:6485-1769765400-1769790600@lubukbuntar.nadi.my
SUMMARY:Mahir : Semua Kelas Mahir Tangguh
DESCRIPTION:
URL:https://lubukbuntar.nadi.my/event/mahir-semua-kelas-mahir-tangguh-2/
END:VEVENT
END:VCALENDAR