BEGIN:VCALENDAR
VERSION:2.0
PRODID:-//NADI Lubuk Buntar - ECPv6.15.20//NONSGML v1.0//EN
CALSCALE:GREGORIAN
METHOD:PUBLISH
X-WR-CALNAME:NADI Lubuk Buntar
X-ORIGINAL-URL:https://lubukbuntar.nadi.my
X-WR-CALDESC:Events for NADI Lubuk Buntar
REFRESH-INTERVAL;VALUE=DURATION:PT1H
X-Robots-Tag:noindex
X-PUBLISHED-TTL:PT1H
BEGIN:VTIMEZONE
TZID:Asia/Kuala_Lumpur
BEGIN:STANDARD
TZOFFSETFROM:+0800
TZOFFSETTO:+0800
TZNAME:+08
DTSTART:20250101T000000
END:STANDARD
END:VTIMEZONE
BEGIN:VEVENT
DTSTART;TZID=Asia/Kuala_Lumpur:20260214T080000
DTEND;TZID=Asia/Kuala_Lumpur:20260214T170000
DTSTAMP:20260424T211503
CREATED:20260214T025318Z
LAST-MODIFIED:20260214T025318Z
UID:6543-1771056000-1771088400@lubukbuntar.nadi.my
SUMMARY:NADI Care : Pantas Macam Juara
DESCRIPTION:
URL:https://lubukbuntar.nadi.my/event/nadi-care-pantas-macam-juara/
END:VEVENT
BEGIN:VEVENT
DTSTART;TZID=Asia/Kuala_Lumpur:20260214T103000
DTEND;TZID=Asia/Kuala_Lumpur:20260214T113000
DTSTAMP:20260424T211503
CREATED:20260214T025410Z
LAST-MODIFIED:20260214T025410Z
UID:6545-1771065000-1771068600@lubukbuntar.nadi.my
SUMMARY:Kelas Komputer : Power Point & Words
DESCRIPTION:
URL:https://lubukbuntar.nadi.my/event/kelas-komputer-power-point-words/
END:VEVENT
BEGIN:VEVENT
DTSTART;TZID=Asia/Kuala_Lumpur:20260214T141500
DTEND;TZID=Asia/Kuala_Lumpur:20260214T163000
DTSTAMP:20260424T211503
CREATED:20260214T025631Z
LAST-MODIFIED:20260214T025631Z
UID:6547-1771078500-1771086600@lubukbuntar.nadi.my
SUMMARY:DILEA : Guardian Tusyen Sej & Math Ting 5
DESCRIPTION:
URL:https://lubukbuntar.nadi.my/event/dilea-guardian-tusyen-sej-math-ting-5/
END:VEVENT
END:VCALENDAR