BEGIN:VCALENDAR
VERSION:2.0
PRODID:-//NADI Lubuk Buntar - ECPv6.15.20//NONSGML v1.0//EN
CALSCALE:GREGORIAN
METHOD:PUBLISH
X-WR-CALNAME:NADI Lubuk Buntar
X-ORIGINAL-URL:https://lubukbuntar.nadi.my
X-WR-CALDESC:Events for NADI Lubuk Buntar
REFRESH-INTERVAL;VALUE=DURATION:PT1H
X-Robots-Tag:noindex
X-PUBLISHED-TTL:PT1H
BEGIN:VTIMEZONE
TZID:Asia/Kuala_Lumpur
BEGIN:STANDARD
TZOFFSETFROM:+0800
TZOFFSETTO:+0800
TZNAME:+08
DTSTART:20250101T000000
END:STANDARD
END:VTIMEZONE
BEGIN:VEVENT
DTSTART;VALUE=DATE:20260418
DTEND;VALUE=DATE:20260501
DTSTAMP:20260423T075830
CREATED:20260415T023108Z
LAST-MODIFIED:20260415T023108Z
UID:6681-1776470400-1777593599@lubukbuntar.nadi.my
SUMMARY:🎥 Video On Demand (Available Anytime)
DESCRIPTION:  \n📅 18–30 April\n🎥 Video On Demand (Available Anytime) \n* Robotic Innovation\n* Python in Animation\n* Let’s Explore Robot Sensors | Short Video Series \n✅ Live: Fixed timing\n✅ VOD: Watch anytime\, self-paced
URL:https://lubukbuntar.nadi.my/event/%f0%9f%8e%a5-video-on-demand-available-anytime/
END:VEVENT
BEGIN:VEVENT
DTSTART;TZID=Asia/Kuala_Lumpur:20260421T103000
DTEND;TZID=Asia/Kuala_Lumpur:20260430T230000
DTSTAMP:20260423T075830
CREATED:20260422T024104Z
LAST-MODIFIED:20260422T024104Z
UID:6702-1776767400-1777590000@lubukbuntar.nadi.my
SUMMARY:Panas Melampau: Kenali & Cegah Strok Haba | W141
DESCRIPTION:Jangan ambil mudah cuaca panas sekarang! \nKetahui tanda-tanda awal dan cara lindungi diri serta keluarga daripada risiko strok haba. \n📅 Tarikh: 21 April 2026 (Selasa)\n🕥 Masa: 10:30 pagi \n📍 Google Meet:\n👉 https://meet.google.com/tvt-jacd-uem \n📺 YouTube Live:\n👉 https://www.youtube.com/@StudioSihat \n📘 Facebook Live:\n👉 https://www.facebook.com/officialnadimalaysia
URL:https://lubukbuntar.nadi.my/event/panas-melampau-kenali-cegah-strok-haba-w141/
END:VEVENT
END:VCALENDAR