BEGIN:VCALENDAR
VERSION:2.0
PRODID:-//NADI Lubuk Buntar - ECPv6.15.20//NONSGML v1.0//EN
CALSCALE:GREGORIAN
METHOD:PUBLISH
X-WR-CALNAME:NADI Lubuk Buntar
X-ORIGINAL-URL:https://lubukbuntar.nadi.my
X-WR-CALDESC:Events for NADI Lubuk Buntar
REFRESH-INTERVAL;VALUE=DURATION:PT1H
X-Robots-Tag:noindex
X-PUBLISHED-TTL:PT1H
BEGIN:VTIMEZONE
TZID:Asia/Kuala_Lumpur
BEGIN:STANDARD
TZOFFSETFROM:+0800
TZOFFSETTO:+0800
TZNAME:+08
DTSTART:20250101T000000
END:STANDARD
END:VTIMEZONE
BEGIN:VEVENT
DTSTART;TZID=Asia/Kuala_Lumpur:20260108T093000
DTEND;TZID=Asia/Kuala_Lumpur:20260108T170000
DTSTAMP:20260423T201305
CREATED:20260101T073338Z
LAST-MODIFIED:20260101T073338Z
UID:6389-1767864600-1767891600@lubukbuntar.nadi.my
SUMMARY:MAHIR : Forum Zon Utara
DESCRIPTION:
URL:https://lubukbuntar.nadi.my/event/mahir-forum-zon-utara/
END:VEVENT
BEGIN:VEVENT
DTSTART;TZID=Asia/Kuala_Lumpur:20260109T150000
DTEND;TZID=Asia/Kuala_Lumpur:20260109T163000
DTSTAMP:20260423T201305
CREATED:20260108T054349Z
LAST-MODIFIED:20260108T054349Z
UID:6416-1767970800-1767976200@lubukbuntar.nadi.my
SUMMARY:ESPORT : AWARENESS CLASS
DESCRIPTION:
URL:https://lubukbuntar.nadi.my/event/esport-awareness-class/
END:VEVENT
BEGIN:VEVENT
DTSTART;TZID=Asia/Kuala_Lumpur:20260110T143000
DTEND;TZID=Asia/Kuala_Lumpur:20260110T163000
DTSTAMP:20260423T201305
CREATED:20260108T054454Z
LAST-MODIFIED:20260108T054454Z
UID:6418-1768055400-1768062600@lubukbuntar.nadi.my
SUMMARY:DILEA : GUIDANCE TUITION SEJ\,MT TING 5\,WEBINAR BERKALA SAINS
DESCRIPTION:
URL:https://lubukbuntar.nadi.my/event/dilea-guidance-tuition-sejmt-ting-5webinar-berkala-sains/
END:VEVENT
BEGIN:VEVENT
DTSTART;TZID=Asia/Kuala_Lumpur:20260122T093000
DTEND;TZID=Asia/Kuala_Lumpur:20260122T103000
DTSTAMP:20260423T201305
CREATED:20260122T084101Z
LAST-MODIFIED:20260122T084101Z
UID:6446-1769074200-1769077800@lubukbuntar.nadi.my
SUMMARY:MAHIR : Jahit Minggu Kedua -Pola Bekas Pencil
DESCRIPTION:
URL:https://lubukbuntar.nadi.my/event/mahir-jahit-minggu-kedua-pola-bekas-pencil/
END:VEVENT
BEGIN:VEVENT
DTSTART;TZID=Asia/Kuala_Lumpur:20260122T093000
DTEND;TZID=Asia/Kuala_Lumpur:20260122T103000
DTSTAMP:20260423T201305
CREATED:20260122T084138Z
LAST-MODIFIED:20260122T084138Z
UID:6448-1769074200-1769077800@lubukbuntar.nadi.my
SUMMARY:Mahir : Pertanian Minggu Kedua
DESCRIPTION:
URL:https://lubukbuntar.nadi.my/event/mahir-pertanian-minggu-kedua/
END:VEVENT
BEGIN:VEVENT
DTSTART;TZID=Asia/Kuala_Lumpur:20260122T100000
DTEND;TZID=Asia/Kuala_Lumpur:20260122T120000
DTSTAMP:20260423T201305
CREATED:20260122T084239Z
LAST-MODIFIED:20260122T084259Z
UID:6450-1769076000-1769083200@lubukbuntar.nadi.my
SUMMARY:EKELAS : Webinar : Perancangan Kewangan
DESCRIPTION:
URL:https://lubukbuntar.nadi.my/event/ekelas-webinar-peranganan-kewangan/
END:VEVENT
BEGIN:VEVENT
DTSTART;TZID=Asia/Kuala_Lumpur:20260122T100000
DTEND;TZID=Asia/Kuala_Lumpur:20260122T120000
DTSTAMP:20260423T201305
CREATED:20260122T084331Z
LAST-MODIFIED:20260122T084331Z
UID:6453-1769076000-1769083200@lubukbuntar.nadi.my
SUMMARY:TOT : Tiny Techies
DESCRIPTION:
URL:https://lubukbuntar.nadi.my/event/tot-tiny-techies/
END:VEVENT
BEGIN:VEVENT
DTSTART;TZID=Asia/Kuala_Lumpur:20260122T150000
DTEND;TZID=Asia/Kuala_Lumpur:20260122T163000
DTSTAMP:20260423T201305
CREATED:20260122T084401Z
LAST-MODIFIED:20260122T084401Z
UID:6455-1769094000-1769099400@lubukbuntar.nadi.my
SUMMARY:DILEA : Bahasa Melayu Tingkatan 2
DESCRIPTION:
URL:https://lubukbuntar.nadi.my/event/dilea-bahasa-melayu-tingkatan-2/
END:VEVENT
BEGIN:VEVENT
DTSTART;TZID=Asia/Kuala_Lumpur:20260122T150000
DTEND;TZID=Asia/Kuala_Lumpur:20260122T163000
DTSTAMP:20260423T201305
CREATED:20260122T084508Z
LAST-MODIFIED:20260122T084508Z
UID:6457-1769094000-1769099400@lubukbuntar.nadi.my
SUMMARY:Lifelong Leraning : Cybersecurity : Cyber Hygiene Program
DESCRIPTION:
URL:https://lubukbuntar.nadi.my/event/lifelong-leraning-cybersecurity-cyber-hygiene-program/
END:VEVENT
BEGIN:VEVENT
DTSTART;VALUE=DATE:20260123
DTEND;VALUE=DATE:20260126
DTSTAMP:20260423T201305
CREATED:20260122T090343Z
LAST-MODIFIED:20260122T090343Z
UID:6475-1769126400-1769385599@lubukbuntar.nadi.my
SUMMARY:Lifelong Learning : Realiti Dunia E-Sukan: Tekanan\, Disiplin Dan Persepsi Masyarakat
DESCRIPTION:
URL:https://lubukbuntar.nadi.my/event/lifelong-learning-realiti-dunia-e-sukan-tekanan-disiplin-dan-persepsi-masyarakat/
END:VEVENT
BEGIN:VEVENT
DTSTART;TZID=Asia/Kuala_Lumpur:20260123T093000
DTEND;TZID=Asia/Kuala_Lumpur:20260123T103000
DTSTAMP:20260423T201305
CREATED:20260122T085957Z
LAST-MODIFIED:20260122T085957Z
UID:6471-1769160600-1769164200@lubukbuntar.nadi.my
SUMMARY:Lifelong Learning : Mahir Masak
DESCRIPTION:
URL:https://lubukbuntar.nadi.my/event/lifelong-learning-mahir-masak/
END:VEVENT
BEGIN:VEVENT
DTSTART;TZID=Asia/Kuala_Lumpur:20260123T150000
DTEND;TZID=Asia/Kuala_Lumpur:20260123T170000
DTSTAMP:20260423T201305
CREATED:20260122T090036Z
LAST-MODIFIED:20260122T090036Z
UID:6473-1769180400-1769187600@lubukbuntar.nadi.my
SUMMARY:Lifelong Learning : Mahir Jahit
DESCRIPTION:
URL:https://lubukbuntar.nadi.my/event/lifelong-learning-mahir-jahit/
END:VEVENT
BEGIN:VEVENT
DTSTART;TZID=Asia/Kuala_Lumpur:20260128T100000
DTEND;TZID=Asia/Kuala_Lumpur:20260128T170000
DTSTAMP:20260423T201305
CREATED:20260128T042721Z
LAST-MODIFIED:20260128T042721Z
UID:6495-1769594400-1769619600@lubukbuntar.nadi.my
SUMMARY:NADI CARE | AI Dalam Kesihatan: Tolong Atau Menakutkan
DESCRIPTION:
URL:https://lubukbuntar.nadi.my/event/nadi-care-ai-dalam-kesihatan-tolong-atau-menakutkan/
END:VEVENT
BEGIN:VEVENT
DTSTART;TZID=Asia/Kuala_Lumpur:20260129T093000
DTEND;TZID=Asia/Kuala_Lumpur:20260129T163000
DTSTAMP:20260423T201305
CREATED:20260128T041223Z
LAST-MODIFIED:20260128T041249Z
UID:6481-1769679000-1769704200@lubukbuntar.nadi.my
SUMMARY:Mahir : Semua Kelas Mahir Tangguh
DESCRIPTION:
URL:https://lubukbuntar.nadi.my/event/mahir-semua-kelas-mahir-tangguh/
END:VEVENT
BEGIN:VEVENT
DTSTART;TZID=Asia/Kuala_Lumpur:20260129T150000
DTEND;TZID=Asia/Kuala_Lumpur:20260129T163000
DTSTAMP:20260423T201305
CREATED:20260128T041558Z
LAST-MODIFIED:20260128T041847Z
UID:6487-1769698800-1769704200@lubukbuntar.nadi.my
SUMMARY:Jemputan Webinar : Keselamatan Siber
DESCRIPTION:
URL:https://lubukbuntar.nadi.my/event/jemputan-webinar-keselamatan-siber/
END:VEVENT
BEGIN:VEVENT
DTSTART;TZID=Asia/Kuala_Lumpur:20260129T153000
DTEND;TZID=Asia/Kuala_Lumpur:20260129T170000
DTSTAMP:20260423T201305
CREATED:20260128T042501Z
LAST-MODIFIED:20260128T042501Z
UID:6491-1769700600-1769706000@lubukbuntar.nadi.my
SUMMARY:OPEN TUITION | SAINS |KHAMIS INI | Untuk semua pelajar Tingkatan 1 hingga 5
DESCRIPTION:
URL:https://lubukbuntar.nadi.my/event/open-tuition-sains-khamis-ini-untuk-semua-pelajar-tingkatan-1-hingga-5/
END:VEVENT
BEGIN:VEVENT
DTSTART;TZID=Asia/Kuala_Lumpur:20260130T093000
DTEND;TZID=Asia/Kuala_Lumpur:20260130T163000
DTSTAMP:20260423T201305
CREATED:20260128T041337Z
LAST-MODIFIED:20260128T041337Z
UID:6485-1769765400-1769790600@lubukbuntar.nadi.my
SUMMARY:Mahir : Semua Kelas Mahir Tangguh
DESCRIPTION:
URL:https://lubukbuntar.nadi.my/event/mahir-semua-kelas-mahir-tangguh-2/
END:VEVENT
END:VCALENDAR